BEGIN:VCALENDAR
VERSION:2.0
PRODID:-//Tukios.com/
BEGIN:VEVENT
UID:144ed37e-e61a-43e7-b525-17d4c6b075b2@www.healyfuneralhome.com
DTSTAMP:20260419T155850Z
DTSTART:20260424T150000Z
DTEND:20260424T160000Z
SUMMARY:Graveside Service
DESCRIPTION:
URL:https://www.healyfuneralhome.com/obituaries/kenneth-saunders
LOCATION:  Forge Village Rd  Westford MA 01886
GEO:42.5811818;-71.4633739
END:VEVENT
END:VCALENDAR