BEGIN:VCALENDAR
VERSION:2.0
PRODID:-//Tukios.com/
BEGIN:VEVENT
UID:82218f16-d4a1-43a1-82d4-eaf795e2a054@www.healyfuneralhome.com
DTSTAMP:20260419T155925Z
DTSTART:20260425T170000Z
DTEND:20260425T180000Z
SUMMARY:Memorial Service
DESCRIPTION:
URL:https://www.healyfuneralhome.com/obituaries/kenneth-saunders
LOCATION: 32 Graniteville Rd  Westford MA 01886
GEO:42.5841571;-71.4503321
END:VEVENT
END:VCALENDAR